BEGIN:VCALENDAR
VERSION:2.0
PRODID:-//Rhumatos - ECPv6.15.20//NONSGML v1.0//EN
CALSCALE:GREGORIAN
METHOD:PUBLISH
X-ORIGINAL-URL:https://rhumatos.fr
X-WR-CALDESC:Évènements pour Rhumatos
REFRESH-INTERVAL;VALUE=DURATION:PT1H
X-Robots-Tag:noindex
X-PUBLISHED-TTL:PT1H
BEGIN:VTIMEZONE
TZID:Europe/Paris
BEGIN:DAYLIGHT
TZOFFSETFROM:+0100
TZOFFSETTO:+0200
TZNAME:CEST
DTSTART:20230326T010000
END:DAYLIGHT
BEGIN:STANDARD
TZOFFSETFROM:+0200
TZOFFSETTO:+0100
TZNAME:CET
DTSTART:20231029T010000
END:STANDARD
BEGIN:DAYLIGHT
TZOFFSETFROM:+0100
TZOFFSETTO:+0200
TZNAME:CEST
DTSTART:20240331T010000
END:DAYLIGHT
BEGIN:STANDARD
TZOFFSETFROM:+0200
TZOFFSETTO:+0100
TZNAME:CET
DTSTART:20241027T010000
END:STANDARD
BEGIN:DAYLIGHT
TZOFFSETFROM:+0100
TZOFFSETTO:+0200
TZNAME:CEST
DTSTART:20250330T010000
END:DAYLIGHT
BEGIN:STANDARD
TZOFFSETFROM:+0200
TZOFFSETTO:+0100
TZNAME:CET
DTSTART:20251026T010000
END:STANDARD
END:VTIMEZONE
BEGIN:VEVENT
DTSTART;VALUE=DATE:20240612
DTEND;VALUE=DATE:20240616
DTSTAMP:20260421T194048
CREATED:20240201T145507Z
LAST-MODIFIED:20240201T145507Z
UID:12083-1718150400-1718495999@rhumatos.fr
SUMMARY:Eular Congress 2024
DESCRIPTION:European Congress of Rheumatology \n  \nSoumission des abstracts : du 1er octobre 2023 au 15 juin 2024 \n 
URL:https://rhumatos.fr/agenda/eular-congress-2024/
LOCATION:Vienne\, Autriche
END:VEVENT
BEGIN:VEVENT
DTSTART;VALUE=DATE:20240614
DTEND;VALUE=DATE:20240616
DTSTAMP:20260421T194048
CREATED:20240201T145617Z
LAST-MODIFIED:20240201T145617Z
UID:12086-1718323200-1718495999@rhumatos.fr
SUMMARY:50e Congrès annuel de la SIMS
DESCRIPTION: Société d’imagerie musculo-squelettique \n 
URL:https://rhumatos.fr/agenda/50e-congres-annuel-de-la-sims/
LOCATION:Palais des Congrès – Issy-les-Moulineaux\, 25 Avenue Victor Cresson\, Issy-les-Moulineaux\, 92130\, France
END:VEVENT
END:VCALENDAR