BEGIN:VCALENDAR
VERSION:2.0
PRODID:-//Rhumatos - ECPv6.15.20//NONSGML v1.0//EN
CALSCALE:GREGORIAN
METHOD:PUBLISH
X-WR-CALNAME:Rhumatos
X-ORIGINAL-URL:https://rhumatos.fr
X-WR-CALDESC:Évènements pour Rhumatos
REFRESH-INTERVAL;VALUE=DURATION:PT1H
X-Robots-Tag:noindex
X-PUBLISHED-TTL:PT1H
BEGIN:VTIMEZONE
TZID:Europe/Paris
BEGIN:DAYLIGHT
TZOFFSETFROM:+0100
TZOFFSETTO:+0200
TZNAME:CEST
DTSTART:20230326T010000
END:DAYLIGHT
BEGIN:STANDARD
TZOFFSETFROM:+0200
TZOFFSETTO:+0100
TZNAME:CET
DTSTART:20231029T010000
END:STANDARD
BEGIN:DAYLIGHT
TZOFFSETFROM:+0100
TZOFFSETTO:+0200
TZNAME:CEST
DTSTART:20240331T010000
END:DAYLIGHT
BEGIN:STANDARD
TZOFFSETFROM:+0200
TZOFFSETTO:+0100
TZNAME:CET
DTSTART:20241027T010000
END:STANDARD
BEGIN:DAYLIGHT
TZOFFSETFROM:+0100
TZOFFSETTO:+0200
TZNAME:CEST
DTSTART:20250330T010000
END:DAYLIGHT
BEGIN:STANDARD
TZOFFSETFROM:+0200
TZOFFSETTO:+0100
TZNAME:CET
DTSTART:20251026T010000
END:STANDARD
END:VTIMEZONE
BEGIN:VEVENT
DTSTART;VALUE=DATE:20240411
DTEND;VALUE=DATE:20240415
DTSTAMP:20260421T230842
CREATED:20240201T145022Z
LAST-MODIFIED:20240201T145022Z
UID:12074-1712793600-1713139199@rhumatos.fr
SUMMARY:WCO-IOF-ESCEO
DESCRIPTION: World congress on osteoporosis\, osteoarthritis and musculoskeletal diseases \n  \nSoumission des abstracts : jusqu’au 29 janvier 2024 \n 
URL:https://rhumatos.fr/agenda/wco-iof-esceo/
LOCATION:Londres\, Royaume-Uni
END:VEVENT
BEGIN:VEVENT
DTSTART;VALUE=DATE:20240418
DTEND;VALUE=DATE:20240422
DTSTAMP:20260421T230842
CREATED:20240201T145152Z
LAST-MODIFIED:20240201T145232Z
UID:12077-1713398400-1713743999@rhumatos.fr
SUMMARY:OARSI 2024
DESCRIPTION: Wolrd Congress on Osteoarthritis \n  \nSoumission des abstracts : jusqu’au 30 janvier 2024 \n 
URL:https://rhumatos.fr/agenda/oarsi-2024/
LOCATION:Messe Wien Exhibition & Congress Center\, Messeplatz 1\, Vienne\, 1021\, Autriche
END:VEVENT
END:VCALENDAR