BEGIN:VCALENDAR
VERSION:2.0
PRODID:-//Rhumatos - ECPv6.15.20//NONSGML v1.0//EN
CALSCALE:GREGORIAN
METHOD:PUBLISH
X-ORIGINAL-URL:https://rhumatos.fr
X-WR-CALDESC:Évènements pour Rhumatos
REFRESH-INTERVAL;VALUE=DURATION:PT1H
X-Robots-Tag:noindex
X-PUBLISHED-TTL:PT1H
BEGIN:VTIMEZONE
TZID:Europe/Paris
BEGIN:DAYLIGHT
TZOFFSETFROM:+0100
TZOFFSETTO:+0200
TZNAME:CEST
DTSTART:20210328T010000
END:DAYLIGHT
BEGIN:STANDARD
TZOFFSETFROM:+0200
TZOFFSETTO:+0100
TZNAME:CET
DTSTART:20211031T010000
END:STANDARD
BEGIN:DAYLIGHT
TZOFFSETFROM:+0100
TZOFFSETTO:+0200
TZNAME:CEST
DTSTART:20220327T010000
END:DAYLIGHT
BEGIN:STANDARD
TZOFFSETFROM:+0200
TZOFFSETTO:+0100
TZNAME:CET
DTSTART:20221030T010000
END:STANDARD
BEGIN:DAYLIGHT
TZOFFSETFROM:+0100
TZOFFSETTO:+0200
TZNAME:CEST
DTSTART:20230326T010000
END:DAYLIGHT
BEGIN:STANDARD
TZOFFSETFROM:+0200
TZOFFSETTO:+0100
TZNAME:CET
DTSTART:20231029T010000
END:STANDARD
END:VTIMEZONE
BEGIN:VEVENT
DTSTART;TZID=Europe/Paris:20220601T080000
DTEND;TZID=Europe/Paris:20220604T170000
DTSTAMP:20260423T112218
CREATED:20220314T105608Z
LAST-MODIFIED:20220314T105608Z
UID:9127-1654070400-1654362000@rhumatos.fr
SUMMARY:Eular Congress 2022
DESCRIPTION:Eular Congress 2022\n1-4 juin 2022 – Copenhague (Danemark)\ncongress.eular.org
URL:https://rhumatos.fr/agenda/eular-congress-2022/
LOCATION:Copenhagen\, Danemark
END:VEVENT
BEGIN:VEVENT
DTSTART;TZID=Europe/Paris:20220617T080000
DTEND;TZID=Europe/Paris:20220618T170000
DTSTAMP:20260423T112218
CREATED:20220314T105432Z
LAST-MODIFIED:20220314T105432Z
UID:9124-1655452800-1655571600@rhumatos.fr
SUMMARY:48e Congrès annuel de la SIMS
DESCRIPTION:48e Congrès annuel de la SIMS (Société d’imagerie musculosquelettique) \n17-18 juin 2022 \nIssy-les-Moulineaux \nwww.sims-asso.org/congres-thematiquejuin.php
URL:https://rhumatos.fr/agenda/48e-congres-annuel-de-la-sims/
LOCATION:Issy-les-Moulineaux
END:VEVENT
END:VCALENDAR