BEGIN:VCALENDAR
VERSION:2.0
PRODID:-//Rhumatos - ECPv6.15.20//NONSGML v1.0//EN
CALSCALE:GREGORIAN
METHOD:PUBLISH
X-WR-CALNAME:Rhumatos
X-ORIGINAL-URL:https://rhumatos.fr
X-WR-CALDESC:Évènements pour Rhumatos
REFRESH-INTERVAL;VALUE=DURATION:PT1H
X-Robots-Tag:noindex
X-PUBLISHED-TTL:PT1H
BEGIN:VTIMEZONE
TZID:Europe/Paris
BEGIN:DAYLIGHT
TZOFFSETFROM:+0100
TZOFFSETTO:+0200
TZNAME:CEST
DTSTART:20210328T010000
END:DAYLIGHT
BEGIN:STANDARD
TZOFFSETFROM:+0200
TZOFFSETTO:+0100
TZNAME:CET
DTSTART:20211031T010000
END:STANDARD
BEGIN:DAYLIGHT
TZOFFSETFROM:+0100
TZOFFSETTO:+0200
TZNAME:CEST
DTSTART:20220327T010000
END:DAYLIGHT
BEGIN:STANDARD
TZOFFSETFROM:+0200
TZOFFSETTO:+0100
TZNAME:CET
DTSTART:20221030T010000
END:STANDARD
BEGIN:DAYLIGHT
TZOFFSETFROM:+0100
TZOFFSETTO:+0200
TZNAME:CEST
DTSTART:20230326T010000
END:DAYLIGHT
BEGIN:STANDARD
TZOFFSETFROM:+0200
TZOFFSETTO:+0100
TZNAME:CET
DTSTART:20231029T010000
END:STANDARD
END:VTIMEZONE
BEGIN:VEVENT
DTSTART;TZID=Europe/Paris:20220331T080000
DTEND;TZID=Europe/Paris:20220401T170000
DTSTAMP:20260423T143046
CREATED:20220314T105048Z
LAST-MODIFIED:20220314T105048Z
UID:9115-1648713600-1648832400@rhumatos.fr
SUMMARY:66es journées annuelles du centre Viggo Petersen
DESCRIPTION:66es journées annuelles du centre Viggo\nPetersen\n31 mars -1er avril 2022 – Paris\nwww.viggopetersen.fr
URL:https://rhumatos.fr/agenda/66es-journees-annuelles-du-centre-viggo-petersen/
LOCATION:Paris
END:VEVENT
BEGIN:VEVENT
DTSTART;VALUE=DATE:20220407
DTEND;VALUE=DATE:20220408
DTSTAMP:20260423T143046
CREATED:20220314T104852Z
LAST-MODIFIED:20220314T104852Z
UID:9112-1649289600-1649375999@rhumatos.fr
SUMMARY:European Crystal Network Workshop 2022
DESCRIPTION:European Crystal Network Workshop 2022\n7 avril 2022 – Congrès virtuel\nwww.european-crystal-network.com
URL:https://rhumatos.fr/agenda/european-crystal-network-workshop-2022/
LOCATION:Congrès virtuel
END:VEVENT
BEGIN:VEVENT
DTSTART;TZID=Europe/Paris:20220407T080000
DTEND;TZID=Europe/Paris:20220410T170000
DTSTAMP:20260423T143046
CREATED:20220314T105145Z
LAST-MODIFIED:20220314T105145Z
UID:9118-1649318400-1649610000@rhumatos.fr
SUMMARY:OARSI 2022 (Osteoarthritis Research Society International)
DESCRIPTION:OARSI 2022 (Osteoarthritis Research\nSociety International)\n7-10 avril 2022 – Berlin (Allemagne)\noarsi.org/events/oarsi-2022-world-congress
URL:https://rhumatos.fr/agenda/oarsi-2022-osteoarthritis-research-society-international/
LOCATION:Berlin\, Allemagne
END:VEVENT
END:VCALENDAR