BEGIN:VCALENDAR
VERSION:2.0
PRODID:-//Rhumatos - ECPv6.15.20//NONSGML v1.0//EN
CALSCALE:GREGORIAN
METHOD:PUBLISH
X-WR-CALNAME:Rhumatos
X-ORIGINAL-URL:https://rhumatos.fr
X-WR-CALDESC:Évènements pour Rhumatos
REFRESH-INTERVAL;VALUE=DURATION:PT1H
X-Robots-Tag:noindex
X-PUBLISHED-TTL:PT1H
BEGIN:VTIMEZONE
TZID:Europe/Paris
BEGIN:DAYLIGHT
TZOFFSETFROM:+0100
TZOFFSETTO:+0200
TZNAME:CEST
DTSTART:20200329T010000
END:DAYLIGHT
BEGIN:STANDARD
TZOFFSETFROM:+0200
TZOFFSETTO:+0100
TZNAME:CET
DTSTART:20201025T010000
END:STANDARD
BEGIN:DAYLIGHT
TZOFFSETFROM:+0100
TZOFFSETTO:+0200
TZNAME:CEST
DTSTART:20210328T010000
END:DAYLIGHT
BEGIN:STANDARD
TZOFFSETFROM:+0200
TZOFFSETTO:+0100
TZNAME:CET
DTSTART:20211031T010000
END:STANDARD
BEGIN:DAYLIGHT
TZOFFSETFROM:+0100
TZOFFSETTO:+0200
TZNAME:CEST
DTSTART:20220327T010000
END:DAYLIGHT
BEGIN:STANDARD
TZOFFSETFROM:+0200
TZOFFSETTO:+0100
TZNAME:CET
DTSTART:20221030T010000
END:STANDARD
END:VTIMEZONE
BEGIN:VEVENT
DTSTART;TZID=Europe/Paris:20210408T080000
DTEND;TZID=Europe/Paris:20210409T170000
DTSTAMP:20260424T115359
CREATED:20210107T075426Z
LAST-MODIFIED:20210107T075450Z
UID:7356-1617868800-1617987600@rhumatos.fr
SUMMARY:65es journées annuelles du centre Viggo Petersen
DESCRIPTION:65es journées annuelles du centre Viggo Petersen\n8-9 avril 2021 – Paris et en virtuel\nwww.viggopetersen.fr
URL:https://rhumatos.fr/agenda/65es-journees-annuelles-du-centre-viggo-petersen-2/
END:VEVENT
BEGIN:VEVENT
DTSTART;TZID=Europe/Paris:20210429T080000
DTEND;TZID=Europe/Paris:20210502T170000
DTSTAMP:20260424T115359
CREATED:20210107T075545Z
LAST-MODIFIED:20210107T075545Z
UID:7358-1619683200-1619974800@rhumatos.fr
SUMMARY:OARSI 2021
DESCRIPTION:OARSI 2021 (Osteoarthritis Research Society International)\n29 avril – 2 mai – Congrès virtuel\noarsi.org/events/2021-oarsi-virtual-world-congress
URL:https://rhumatos.fr/agenda/oarsi-2021/
END:VEVENT
END:VCALENDAR