BEGIN:VCALENDAR
VERSION:2.0
PRODID:-//Rhumatos - ECPv6.15.20//NONSGML v1.0//EN
CALSCALE:GREGORIAN
METHOD:PUBLISH
X-WR-CALNAME:Rhumatos
X-ORIGINAL-URL:https://rhumatos.fr
X-WR-CALDESC:Évènements pour Rhumatos
REFRESH-INTERVAL;VALUE=DURATION:PT1H
X-Robots-Tag:noindex
X-PUBLISHED-TTL:PT1H
BEGIN:VTIMEZONE
TZID:Europe/Paris
BEGIN:DAYLIGHT
TZOFFSETFROM:+0100
TZOFFSETTO:+0200
TZNAME:CEST
DTSTART:20190331T010000
END:DAYLIGHT
BEGIN:STANDARD
TZOFFSETFROM:+0200
TZOFFSETTO:+0100
TZNAME:CET
DTSTART:20191027T010000
END:STANDARD
BEGIN:DAYLIGHT
TZOFFSETFROM:+0100
TZOFFSETTO:+0200
TZNAME:CEST
DTSTART:20200329T010000
END:DAYLIGHT
BEGIN:STANDARD
TZOFFSETFROM:+0200
TZOFFSETTO:+0100
TZNAME:CET
DTSTART:20201025T010000
END:STANDARD
BEGIN:DAYLIGHT
TZOFFSETFROM:+0100
TZOFFSETTO:+0200
TZNAME:CEST
DTSTART:20210328T010000
END:DAYLIGHT
BEGIN:STANDARD
TZOFFSETFROM:+0200
TZOFFSETTO:+0100
TZNAME:CET
DTSTART:20211031T010000
END:STANDARD
END:VTIMEZONE
BEGIN:VTIMEZONE
TZID:Europe/Prague
BEGIN:DAYLIGHT
TZOFFSETFROM:+0100
TZOFFSETTO:+0200
TZNAME:CEST
DTSTART:20190331T010000
END:DAYLIGHT
BEGIN:STANDARD
TZOFFSETFROM:+0200
TZOFFSETTO:+0100
TZNAME:CET
DTSTART:20191027T010000
END:STANDARD
BEGIN:DAYLIGHT
TZOFFSETFROM:+0100
TZOFFSETTO:+0200
TZNAME:CEST
DTSTART:20200329T010000
END:DAYLIGHT
BEGIN:STANDARD
TZOFFSETFROM:+0200
TZOFFSETTO:+0100
TZNAME:CET
DTSTART:20201025T010000
END:STANDARD
BEGIN:DAYLIGHT
TZOFFSETFROM:+0100
TZOFFSETTO:+0200
TZNAME:CEST
DTSTART:20210328T010000
END:DAYLIGHT
BEGIN:STANDARD
TZOFFSETFROM:+0200
TZOFFSETTO:+0100
TZNAME:CET
DTSTART:20211031T010000
END:STANDARD
END:VTIMEZONE
BEGIN:VEVENT
DTSTART;VALUE=DATE:20200305
DTEND;VALUE=DATE:20200307
DTSTAMP:20260425T132110
CREATED:20200207T112209Z
LAST-MODIFIED:20200207T112209Z
UID:5924-1583366400-1583539199@rhumatos.fr
SUMMARY:11th European Crystal Network Worshop
DESCRIPTION:
URL:https://rhumatos.fr/agenda/11th-european-crystal-network-worshop/
LOCATION:Espace Saint-Martin\, 199 bis rue Saint-Martin\, Paris\, 75003\, France
END:VEVENT
BEGIN:VEVENT
DTSTART;VALUE=DATE:20200305
DTEND;VALUE=DATE:20200308
DTSTAMP:20260425T132110
CREATED:20200207T110515Z
LAST-MODIFIED:20200207T110515Z
UID:5917-1583366400-1583625599@rhumatos.fr
SUMMARY:6th Systemic sclerosis world congress
DESCRIPTION:
URL:https://rhumatos.fr/agenda/6th-systemic-sclerosis-world-congress/
LOCATION:PRAGUE CONGRESS CENTER\, Entrance n. 5\, 5. kvetna 1640/65\, Nusle 140 00 Prague 4\, Czech Republic\, Prague\, République Tchèque
ATTACH;FMTTYPE=image/jpeg:https://rhumatos.fr/wp-content/uploads/2020/02/111111.jpg
END:VEVENT
BEGIN:VEVENT
DTSTART;VALUE=DATE:20200325
DTEND;VALUE=DATE:20200328
DTSTAMP:20260425T132110
CREATED:20200207T112533Z
LAST-MODIFIED:20200207T112533Z
UID:5931-1585094400-1585353599@rhumatos.fr
SUMMARY:65e Semaine de Rhumatologie d’Aix-les-Bains
DESCRIPTION:65e Semaine de Rhumatologie\nd’Aix-les-Bains
URL:https://rhumatos.fr/agenda/65e-semaine-de-rhumatologie-daix-les-bains/
LOCATION:Centre des congrès\, Aix-les-Bains\, France
END:VEVENT
END:VCALENDAR